BEGIN:VCALENDAR
VERSION:2.0
PRODID:-//jEvents 2.0 for Joomla//EN
CALSCALE:GREGORIAN
METHOD:PUBLISH
BEGIN:VEVENT
UID:cf28580623b4e488748d0e6e1dde26bc
CATEGORIES:Wettkämpfe
CREATED:20260421T093628
SUMMARY:Vereinsmeisterschaft 2026
DESCRIPTION:WANN: Samstag, 20.06.2026ORT: THERME, ReutteEINLASS: 7:45 UhrEinschwimmen: 
 8:00 Uhr anschließend Start der Bewerbeanschließend findet die Preisverteil
 ung statt.
DTSTAMP:20260422T013651
DTSTART:20260620T054500
SEQUENCE:0
TRANSP:OPAQUE
END:VEVENT
END:VCALENDAR