BEGIN:VCALENDAR
VERSION:2.0
PRODID:-//jEvents 2.0 for Joomla//EN
CALSCALE:GREGORIAN
METHOD:PUBLISH
BEGIN:VEVENT
UID:e5e13544ac900e72cc30ba95de2912ad
CATEGORIES:Diverses
CREATED:20260421T093922
SUMMARY:Jahreshauptversammlung
DESCRIPTION:
DTSTAMP:20260422T015832
DTSTART:20260601T160000
SEQUENCE:0
TRANSP:OPAQUE
END:VEVENT
END:VCALENDAR